BEGIN:VCALENDAR
VERSION:2.0
PRODID:-//Sabre//Sabre VObject 4.5.8//EN
CALSCALE:GREGORIAN
BEGIN:VEVENT
UID:sabre-vobject-8c268eae-b6d2-4ab3-9ea3-fc4a3c1430f3
DTSTAMP:20260421T144030Z
SUMMARY:Cosmetic Business 2026
DESCRIPTION:München\n10.-11. Juni 2026
LOCATION:München
DTSTART:20260610T120000Z
DTEND:20260611T120000Z
END:VEVENT
END:VCALENDAR
