BEGIN:VCALENDAR
VERSION:2.0
PRODID:-//Sabre//Sabre VObject 4.5.8//EN
CALSCALE:GREGORIAN
BEGIN:VEVENT
UID:sabre-vobject-257025d6-191c-4e1f-b6eb-c57ae7bb26b9
DTSTAMP:20260421T144028Z
SUMMARY:Interzoo 2026
DESCRIPTION:Nürnberg\n12.-15. Mai 2026
LOCATION:Nürnberg
DTSTART:20260512T120000Z
DTEND:20260515T120000Z
END:VEVENT
END:VCALENDAR
