BEGIN:VCALENDAR
VERSION:2.0
PRODID:-//Sabre//Sabre VObject 4.5.8//EN
CALSCALE:GREGORIAN
BEGIN:VEVENT
UID:sabre-vobject-a600d8b9-695f-420a-b080-a4493dc1c6f3
DTSTAMP:20260421T144105Z
SUMMARY:PCI Days 2026
DESCRIPTION:Warsaw\n16-18 June 2026
LOCATION:Warsaw
DTSTART:20260616T120000Z
DTEND:20260618T120000Z
END:VEVENT
END:VCALENDAR
