BEGIN:VCALENDAR
VERSION:2.0
PRODID:-//Sabre//Sabre VObject 4.5.8//EN
CALSCALE:GREGORIAN
BEGIN:VEVENT
UID:sabre-vobject-c01b881e-13b0-4475-a2cb-d2c19496b7ec
DTSTAMP:20260421T144105Z
SUMMARY:PLMA Amsterdam 2026
DESCRIPTION:Amsterdam\n19-20 May 2026
LOCATION:Amsterdam
DTSTART:20260519T120000Z
DTEND:20260520T120000Z
END:VEVENT
END:VCALENDAR
