BEGIN:VCALENDAR
VERSION:2.0
PRODID:-//Sabre//Sabre VObject 4.5.8//EN
CALSCALE:GREGORIAN
BEGIN:VEVENT
UID:sabre-vobject-d7a93ce1-e854-4894-a1ed-c92d6f9fa953
DTSTAMP:20260421T144107Z
SUMMARY:Asphalt seminar 2026
DESCRIPTION:Willingen\n24-26 March 2026
LOCATION:Willingen
DTSTART:20260324T120000Z
DTEND:20260326T120000Z
END:VEVENT
END:VCALENDAR
