BEGIN:VCALENDAR
VERSION:2.0
PRODID:-//Sabre//Sabre VObject 4.5.8//EN
CALSCALE:GREGORIAN
BEGIN:VEVENT
UID:sabre-vobject-01d4ee11-f84c-4a42-80bd-5049d90fabc3
DTSTAMP:20260421T124522Z
SUMMARY:Deutsche Asphalttage 2026
DESCRIPTION:Berchtesgaden\n25.-27. Februar 2026
LOCATION:Berchtesgaden
DTSTART:20260225T120000Z
DTEND:20260227T120000Z
END:VEVENT
END:VCALENDAR
