BEGIN:VCALENDAR
VERSION:2.0
PRODID:-//Sabre//Sabre VObject 4.5.8//EN
CALSCALE:GREGORIAN
BEGIN:VEVENT
UID:sabre-vobject-5b595b80-a7da-4f7d-8528-95ff92de1c0f
DTSTAMP:20260421T124522Z
SUMMARY:Paris Packaging Week 2026
DESCRIPTION:Paris\n05.-06. Februar 2026
LOCATION:Paris
DTSTART:20260205T120000Z
DTEND:20260206T120000Z
END:VEVENT
END:VCALENDAR
